BEGIN:VCALENDAR
VERSION:2.0
PRODID:-//Mar-Anon Family Groups - ECPv6.15.20//NONSGML v1.0//EN
CALSCALE:GREGORIAN
METHOD:PUBLISH
X-ORIGINAL-URL:https://mar-anon.com
X-WR-CALDESC:Events for Mar-Anon Family Groups
REFRESH-INTERVAL;VALUE=DURATION:PT1H
X-Robots-Tag:noindex
X-PUBLISHED-TTL:PT1H
BEGIN:VTIMEZONE
TZID:America/Chicago
BEGIN:DAYLIGHT
TZOFFSETFROM:-0600
TZOFFSETTO:-0500
TZNAME:CDT
DTSTART:20240310T080000
END:DAYLIGHT
BEGIN:STANDARD
TZOFFSETFROM:-0500
TZOFFSETTO:-0600
TZNAME:CST
DTSTART:20241103T070000
END:STANDARD
BEGIN:DAYLIGHT
TZOFFSETFROM:-0600
TZOFFSETTO:-0500
TZNAME:CDT
DTSTART:20250309T080000
END:DAYLIGHT
BEGIN:STANDARD
TZOFFSETFROM:-0500
TZOFFSETTO:-0600
TZNAME:CST
DTSTART:20251102T070000
END:STANDARD
BEGIN:DAYLIGHT
TZOFFSETFROM:-0600
TZOFFSETTO:-0500
TZNAME:CDT
DTSTART:20260308T080000
END:DAYLIGHT
BEGIN:STANDARD
TZOFFSETFROM:-0500
TZOFFSETTO:-0600
TZNAME:CST
DTSTART:20261101T070000
END:STANDARD
END:VTIMEZONE
BEGIN:VEVENT
DTSTART;TZID=America/Chicago:20251206T103000
DTEND;TZID=America/Chicago:20251206T120000
DTSTAMP:20260420T013515
CREATED:20250523T034621Z
LAST-MODIFIED:20250529T154356Z
UID:10007518-1765017000-1765022400@mar-anon.com
SUMMARY:Monthly newcomer orientation and fellowship meeting MFG
DESCRIPTION:Saturday 8:30 AM PST/ 9:30 MST / 10:30 CST / 11:30 EST\n\nThis is a monthly meeting for newcomers or anyone interested in learning more about Mar-Anon Family Groups.\n\n1st Saturday of every month \nJoin Zoom Meeting: https://us06web.zoom.us/j/88672398874\nMeeting ID: 886 7239 8874\nPasscode: 160872 \nOne tap mobile\n+17193594580\,\,88672398874# US\n+12532158782\,\,88672398874# US (Tacoma) \nDial by your location\n+1 719 359 4580 US\n+1 253 215 8782 US (Tacoma)\nMeeting ID: 886 7239 8874\nPasscode: 160872
URL:https://mar-anon.com/meetings/monthly-mar-anon-newcomer-orientation-and-fellowship-meeting-online-zoom-2-2-2-2/2025-12-06/
CATEGORIES:Cannabinoid Hyperemesis Syndrome,Cannabis-Induced Psyhosis,Dual Diagnosis,Mar-Anon Meeting,Step Study Workshop
LOCATION:
END:VEVENT
END:VCALENDAR