BEGIN:VCALENDAR
VERSION:2.0
PRODID:-//Mar-Anon Family Groups - ECPv6.15.20//NONSGML v1.0//EN
CALSCALE:GREGORIAN
METHOD:PUBLISH
X-WR-CALNAME:Mar-Anon Family Groups
X-ORIGINAL-URL:https://mar-anon.com
X-WR-CALDESC:Events for Mar-Anon Family Groups
REFRESH-INTERVAL;VALUE=DURATION:PT1H
X-Robots-Tag:noindex
X-PUBLISHED-TTL:PT1H
BEGIN:VTIMEZONE
TZID:America/Chicago
BEGIN:DAYLIGHT
TZOFFSETFROM:-0600
TZOFFSETTO:-0500
TZNAME:CDT
DTSTART:20230312T080000
END:DAYLIGHT
BEGIN:STANDARD
TZOFFSETFROM:-0500
TZOFFSETTO:-0600
TZNAME:CST
DTSTART:20231105T070000
END:STANDARD
BEGIN:DAYLIGHT
TZOFFSETFROM:-0600
TZOFFSETTO:-0500
TZNAME:CDT
DTSTART:20240310T080000
END:DAYLIGHT
BEGIN:STANDARD
TZOFFSETFROM:-0500
TZOFFSETTO:-0600
TZNAME:CST
DTSTART:20241103T070000
END:STANDARD
BEGIN:DAYLIGHT
TZOFFSETFROM:-0600
TZOFFSETTO:-0500
TZNAME:CDT
DTSTART:20250309T080000
END:DAYLIGHT
BEGIN:STANDARD
TZOFFSETFROM:-0500
TZOFFSETTO:-0600
TZNAME:CST
DTSTART:20251102T070000
END:STANDARD
END:VTIMEZONE
BEGIN:VEVENT
DTSTART;TZID=America/Chicago:20240917T190000
DTEND;TZID=America/Chicago:20240917T210000
DTSTAMP:20260423T023738
CREATED:20230813T215105Z
LAST-MODIFIED:20240528T192033Z
UID:10001612-1726599600-1726606800@mar-anon.com
SUMMARY:Mar-Anon Speaker Meeting Third Tuesday of the Month ONLINE/ZOOM
DESCRIPTION:5:00 PM PST/ 6:00 MST / 7:00 CST / 8:00 EST \nMar-Anon is a fellowship of those affected by another person’s marijuana use.  Its foundation is the Twelve Steps\, adapted from Marijuana Anonymous\, which can be a powerful\, life-changing tool.  We come together to work the steps and offer hope\, comfort\, and support for other members.  We are not a religious group\, instead\, we use the steps as a path of self-discovery and personal change. The only requirement for membership is that a person be affected by another’s marijuana addiction. \nJoin Zoom Meeting: https://us06web.zoom.us/j/89707242742 \nMeeting ID: 897 0724 2742\nPasscode: 963900 \nOne tap mobile\n+17193594580\,\,89707242742# US\n+16694449171\,\,89707242742# US \nDial by your location\n+1 719 359 4580 US\n+1 669 444 9171 US\nMeeting ID: 897 0724 2742\nPasscode: 963900 \n 
URL:https://mar-anon.com/meetings/mar-anon-tuesday-meeting-3-2-15/
CATEGORIES:Cannabis-Induced Psyhosis,Dual Diagnosis,Mar-Anon Meeting
END:VEVENT
END:VCALENDAR