BEGIN:VCALENDAR
VERSION:2.0
PRODID:-//Mar-Anon Family Groups - ECPv6.15.20//NONSGML v1.0//EN
CALSCALE:GREGORIAN
METHOD:PUBLISH
X-ORIGINAL-URL:https://mar-anon.com
X-WR-CALDESC:Events for Mar-Anon Family Groups
REFRESH-INTERVAL;VALUE=DURATION:PT1H
X-Robots-Tag:noindex
X-PUBLISHED-TTL:PT1H
BEGIN:VTIMEZONE
TZID:America/Chicago
BEGIN:DAYLIGHT
TZOFFSETFROM:-0600
TZOFFSETTO:-0500
TZNAME:CDT
DTSTART:20250309T080000
END:DAYLIGHT
BEGIN:STANDARD
TZOFFSETFROM:-0500
TZOFFSETTO:-0600
TZNAME:CST
DTSTART:20251102T070000
END:STANDARD
BEGIN:DAYLIGHT
TZOFFSETFROM:-0600
TZOFFSETTO:-0500
TZNAME:CDT
DTSTART:20260308T080000
END:DAYLIGHT
BEGIN:STANDARD
TZOFFSETFROM:-0500
TZOFFSETTO:-0600
TZNAME:CST
DTSTART:20261101T070000
END:STANDARD
BEGIN:DAYLIGHT
TZOFFSETFROM:-0600
TZOFFSETTO:-0500
TZNAME:CDT
DTSTART:20270314T080000
END:DAYLIGHT
BEGIN:STANDARD
TZOFFSETFROM:-0500
TZOFFSETTO:-0600
TZNAME:CST
DTSTART:20271107T070000
END:STANDARD
END:VTIMEZONE
BEGIN:VEVENT
DTSTART;TZID=America/Chicago:20260421T183000
DTEND;TZID=America/Chicago:20260421T193000
DTSTAMP:20260420T084545
CREATED:20260121T185158Z
LAST-MODIFIED:20260310T185220Z
UID:10016377-1776796200-1776799800@mar-anon.com
SUMMARY:Que comience por mí - MFG
DESCRIPTION:Esta es la primera reunión en español que se abre para los grupos de familia Mar-Anon. Es una reunión abierta y todos son bienvenidos. El propósito de esta reunión es explorar cómo el uso de marihuana de nuestro ser querido nos afecta.  \nThis is the first Spanish Meeting of Mar-Anon family groups. This is an open meeting and everyone is welcome. The purpose of this meeting is to explore how our loved one’s substance use has affected us. \nMARTES 4:30 PM PT / 5:30 PM MT / 6:30 PM CT / 7:30 PM ET / Ciudad de México 5:30 PM / Colombia 6:30 PM / La Paz 7:30 PM / Buenos Aires 8:30 PM / Madrid 12:30 AM \nTuesday 4:30 PM PT / 5:30 PM MT / 6:30 PM CT / 7:30 PM ET / Ciudad de México 5:30 PM/ Colombia 6:30 PM / La Paz 7:30 PM / Buenos Aires 8:30 PM / Madrid 12:30 AM \nGrupos de Familia Mar-Anon es una agrupación de seres queridos de los consumidores de marihuana. Sus pilares son los Doce Pasos\, adaptados de Alcohólicos Anónimos\, los cuales han sido un instrumento para el crecimiento espiritual de millones de miembros de Marihuana Anónimos\, Mar-Anon\, Al-Anon y Alateen. Pueden ser una poderosa herramienta para cambiar la vida de quienes los adopten y trabajen. Nos reunimos para trabajar los pasos y ofrecemos comprensión\, aliento y consuelo a los familiares de los consumidores de marihuana. No somos un grupo religioso\, usamos los pasos como camino hacia el autodescubrimiento y el cambio personal. El único requisito para ser miembro es tener un ser querido con un problema de consumo de marihuana. \nMar-Anon is a fellowship of those affected by another person’s marijuana use.  Its foundation is the Twelve Steps\, adapted from Marijuana Anonymous\, which can be a powerful\, life-changing tool.  We come together to work the steps and offer hope\, comfort\, and support for other members.  We are not a religious group\, instead\, we use the steps as a path of self-discovery and personal change. The only requirement for membership is that a person be affected by another’s marijuana use. \nThis is an online zoom meeting. \nJoin online zoom:\nhttps://us06web.zoom.us/j/82772649993?pwd=iKuagbB8IilpAgtazPdbYhQYMwtapm.1 \nMeeting ID: 827 7264 9993\nPasscode: 809489 \n 
URL:https://mar-anon.com/meetings/spanish-speaking-mfg/2026-04-21/
CATEGORIES:Cannabinoid Hyperemesis Syndrome,Cannabis-Induced Psyhosis,Dual Diagnosis,Mar-Anon Meeting
LOCATION:
END:VEVENT
BEGIN:VEVENT
DTSTART;TZID=America/Chicago:20260422T180000
DTEND;TZID=America/Chicago:20260422T190000
DTSTAMP:20260420T084545
CREATED:20250529T041240Z
LAST-MODIFIED:20260310T185511Z
UID:10008990-1776880800-1776884400@mar-anon.com
SUMMARY:Adult Qualifiers MFG
DESCRIPTION:This meeting every Wednesday will focus on adult qualifiers (spouses\, boyfriends\, girlfriends\, significant others\, brothers/sisters\, parents etc.) although all are welcome. \nWednesday 4:00 PM Pacific/ 5:00 Mountain / 6:00 Central / 7:00 Eastern \nMar-Anon is a fellowship of those affected by another person’s marijuana use.  Its foundation is the Twelve Steps\, adapted from Marijuana Anonymous\, which can be a powerful\, life-changing tool.  We come together to work the steps and offer hope\, comfort\, and support for other members.  We are not a religious group\, instead\, we use the steps as a path of self-discovery and personal change. The only requirement for membership is that a person be affected by another’s marijuana addiction. \nThis is an online zoom meeting. \nJoin Zoom Meeting:\nhttps://us06web.zoom.us/j/87072852232?pwd=2EWgGurHEM4UXWeDZ8qL4buUgTxBav.1 \nMeeting ID: 870 7285 2232\nPasscode: 196281 \n 
URL:https://mar-anon.com/meetings/mar-anon-wednesday-meeting-focus-on-adult-qualifiers-2-2-2-2-3-2/2026-04-22/
CATEGORIES:Cannabis-Induced Psyhosis,Dual Diagnosis,Mar-Anon Meeting
LOCATION:
END:VEVENT
BEGIN:VEVENT
DTSTART;TZID=America/Chicago:20260424T170000
DTEND;TZID=America/Chicago:20260424T180000
DTSTAMP:20260420T084545
CREATED:20250523T034332Z
LAST-MODIFIED:20260310T191217Z
UID:10010490-1777050000-1777053600@mar-anon.com
SUMMARY:Weekly Read\, Listen\, and Share Book Study MFG
DESCRIPTION:Weekly Read\, Listen\, and Share Book Study “How Al-Anon (Mar-Anon) Works”\nFriday 3:00 PM Pacific/ 4:00 Mountain / 5:00 Central / 6:00 Eastern \nEveryone is welcome. Having the book is optional. Beginners and long-time members come as you are today. Join us as we read\, reflect\, and share on the Al-Anon book: How Al-Anon Works for Family and Friends of Alcoholics. \n“This is the essential book on Al-Anon Family Groups. It answers every question we might think to ask including ‘Can Al-Anon/Mar-Anon help me?'” \nJoin Zoom Meeting:\nhttps://us06web.zoom.us/j/85185717747?pwd=sGI55mk6xkx1eMexnlT5Jr1YPTF0Kv.1\n \nMeeting ID: 851 8571 7747\nPasscode: 228922 \n 
URL:https://mar-anon.com/meetings/weekly-book-study-online-zoom-2-2/2026-04-24/
CATEGORIES:Cannabinoid Hyperemesis Syndrome,Cannabis-Induced Psyhosis,Dual Diagnosis,Mar-Anon Meeting,Step Study Workshop
LOCATION:
END:VEVENT
BEGIN:VEVENT
DTSTART;TZID=America/Chicago:20260426T180000
DTEND;TZID=America/Chicago:20260426T190000
DTSTAMP:20260420T084545
CREATED:20250529T033741Z
LAST-MODIFIED:20260310T191731Z
UID:10016699-1777226400-1777230000@mar-anon.com
SUMMARY:We Are Here for Each Other.  Newcomers welcome.  MFG
DESCRIPTION:Sunday 4:00 PM PST/ 5:00 MST / 6:00 CST / 7:00 EST \nMar-Anon is a fellowship of those affected by another person’s marijuana use.  Its foundation is the Twelve Steps\, adapted from Marijuana Anonymous\, which can be a powerful\, life-changing tool.  We come together to work the steps and offer hope\, comfort\, and support for other members.  We are not a religious group\, instead\, we use the steps as a path of self-discovery and personal change.  The only requirement for membership is that a person is affected by another’s marijuana addiction. \nThis is an online Zoom meeting. \nLINK TO MEETING:\nhttps://us06web.zoom.us/j/84851154306?pwd=DVl651ANxaFTnNbaXll89pt1guqcEX.1\nMeeting ID: 848 5115 4306\nPasscode: 890844 \n 
URL:https://mar-anon.com/meetings/mar-anon-sunday-online-zoom-2-2-2-2-2-2-2/2026-04-26/
CATEGORIES:Cannabinoid Hyperemesis Syndrome,Cannabis-Induced Psyhosis,Dual Diagnosis,Mar-Anon Meeting,Step Study Workshop
LOCATION:
END:VEVENT
BEGIN:VEVENT
DTSTART;TZID=America/Chicago:20260428T183000
DTEND;TZID=America/Chicago:20260428T193000
DTSTAMP:20260420T084545
CREATED:20260121T185158Z
LAST-MODIFIED:20260310T185220Z
UID:10016378-1777401000-1777404600@mar-anon.com
SUMMARY:Que comience por mí - MFG
DESCRIPTION:Esta es la primera reunión en español que se abre para los grupos de familia Mar-Anon. Es una reunión abierta y todos son bienvenidos. El propósito de esta reunión es explorar cómo el uso de marihuana de nuestro ser querido nos afecta.  \nThis is the first Spanish Meeting of Mar-Anon family groups. This is an open meeting and everyone is welcome. The purpose of this meeting is to explore how our loved one’s substance use has affected us. \nMARTES 4:30 PM PT / 5:30 PM MT / 6:30 PM CT / 7:30 PM ET / Ciudad de México 5:30 PM / Colombia 6:30 PM / La Paz 7:30 PM / Buenos Aires 8:30 PM / Madrid 12:30 AM \nTuesday 4:30 PM PT / 5:30 PM MT / 6:30 PM CT / 7:30 PM ET / Ciudad de México 5:30 PM/ Colombia 6:30 PM / La Paz 7:30 PM / Buenos Aires 8:30 PM / Madrid 12:30 AM \nGrupos de Familia Mar-Anon es una agrupación de seres queridos de los consumidores de marihuana. Sus pilares son los Doce Pasos\, adaptados de Alcohólicos Anónimos\, los cuales han sido un instrumento para el crecimiento espiritual de millones de miembros de Marihuana Anónimos\, Mar-Anon\, Al-Anon y Alateen. Pueden ser una poderosa herramienta para cambiar la vida de quienes los adopten y trabajen. Nos reunimos para trabajar los pasos y ofrecemos comprensión\, aliento y consuelo a los familiares de los consumidores de marihuana. No somos un grupo religioso\, usamos los pasos como camino hacia el autodescubrimiento y el cambio personal. El único requisito para ser miembro es tener un ser querido con un problema de consumo de marihuana. \nMar-Anon is a fellowship of those affected by another person’s marijuana use.  Its foundation is the Twelve Steps\, adapted from Marijuana Anonymous\, which can be a powerful\, life-changing tool.  We come together to work the steps and offer hope\, comfort\, and support for other members.  We are not a religious group\, instead\, we use the steps as a path of self-discovery and personal change. The only requirement for membership is that a person be affected by another’s marijuana use. \nThis is an online zoom meeting. \nJoin online zoom:\nhttps://us06web.zoom.us/j/82772649993?pwd=iKuagbB8IilpAgtazPdbYhQYMwtapm.1 \nMeeting ID: 827 7264 9993\nPasscode: 809489 \n 
URL:https://mar-anon.com/meetings/spanish-speaking-mfg/2026-04-28/
CATEGORIES:Cannabinoid Hyperemesis Syndrome,Cannabis-Induced Psyhosis,Dual Diagnosis,Mar-Anon Meeting
LOCATION:
END:VEVENT
BEGIN:VEVENT
DTSTART;TZID=America/Chicago:20260429T180000
DTEND;TZID=America/Chicago:20260429T190000
DTSTAMP:20260420T084545
CREATED:20250529T041240Z
LAST-MODIFIED:20260310T185511Z
UID:10008991-1777485600-1777489200@mar-anon.com
SUMMARY:Adult Qualifiers MFG
DESCRIPTION:This meeting every Wednesday will focus on adult qualifiers (spouses\, boyfriends\, girlfriends\, significant others\, brothers/sisters\, parents etc.) although all are welcome. \nWednesday 4:00 PM Pacific/ 5:00 Mountain / 6:00 Central / 7:00 Eastern \nMar-Anon is a fellowship of those affected by another person’s marijuana use.  Its foundation is the Twelve Steps\, adapted from Marijuana Anonymous\, which can be a powerful\, life-changing tool.  We come together to work the steps and offer hope\, comfort\, and support for other members.  We are not a religious group\, instead\, we use the steps as a path of self-discovery and personal change. The only requirement for membership is that a person be affected by another’s marijuana addiction. \nThis is an online zoom meeting. \nJoin Zoom Meeting:\nhttps://us06web.zoom.us/j/87072852232?pwd=2EWgGurHEM4UXWeDZ8qL4buUgTxBav.1 \nMeeting ID: 870 7285 2232\nPasscode: 196281 \n 
URL:https://mar-anon.com/meetings/mar-anon-wednesday-meeting-focus-on-adult-qualifiers-2-2-2-2-3-2/2026-04-29/
CATEGORIES:Cannabis-Induced Psyhosis,Dual Diagnosis,Mar-Anon Meeting
LOCATION:
END:VEVENT
END:VCALENDAR