BEGIN:VCALENDAR
VERSION:2.0
PRODID:-//Mar-Anon Family Groups - ECPv6.15.20//NONSGML v1.0//EN
CALSCALE:GREGORIAN
METHOD:PUBLISH
X-WR-CALNAME:Mar-Anon Family Groups
X-ORIGINAL-URL:https://mar-anon.com
X-WR-CALDESC:Events for Mar-Anon Family Groups
REFRESH-INTERVAL;VALUE=DURATION:PT1H
X-Robots-Tag:noindex
X-PUBLISHED-TTL:PT1H
BEGIN:VTIMEZONE
TZID:America/Chicago
BEGIN:DAYLIGHT
TZOFFSETFROM:-0600
TZOFFSETTO:-0500
TZNAME:CDT
DTSTART:20250309T080000
END:DAYLIGHT
BEGIN:STANDARD
TZOFFSETFROM:-0500
TZOFFSETTO:-0600
TZNAME:CST
DTSTART:20251102T070000
END:STANDARD
BEGIN:DAYLIGHT
TZOFFSETFROM:-0600
TZOFFSETTO:-0500
TZNAME:CDT
DTSTART:20260308T080000
END:DAYLIGHT
BEGIN:STANDARD
TZOFFSETFROM:-0500
TZOFFSETTO:-0600
TZNAME:CST
DTSTART:20261101T070000
END:STANDARD
BEGIN:DAYLIGHT
TZOFFSETFROM:-0600
TZOFFSETTO:-0500
TZNAME:CDT
DTSTART:20270314T080000
END:DAYLIGHT
BEGIN:STANDARD
TZOFFSETFROM:-0500
TZOFFSETTO:-0600
TZNAME:CST
DTSTART:20271107T070000
END:STANDARD
END:VTIMEZONE
BEGIN:VEVENT
DTSTART;TZID=America/Chicago:20260626T170000
DTEND;TZID=America/Chicago:20260626T180000
DTSTAMP:20260420T175815
CREATED:20250523T034332Z
LAST-MODIFIED:20260310T191217Z
UID:10010499-1782493200-1782496800@mar-anon.com
SUMMARY:Weekly Read\, Listen\, and Share Book Study MFG
DESCRIPTION:Weekly Read\, Listen\, and Share Book Study “How Al-Anon (Mar-Anon) Works”\nFriday 3:00 PM Pacific/ 4:00 Mountain / 5:00 Central / 6:00 Eastern \nEveryone is welcome. Having the book is optional. Beginners and long-time members come as you are today. Join us as we read\, reflect\, and share on the Al-Anon book: How Al-Anon Works for Family and Friends of Alcoholics. \n“This is the essential book on Al-Anon Family Groups. It answers every question we might think to ask including ‘Can Al-Anon/Mar-Anon help me?'” \nJoin Zoom Meeting:\nhttps://us06web.zoom.us/j/85185717747?pwd=sGI55mk6xkx1eMexnlT5Jr1YPTF0Kv.1\n \nMeeting ID: 851 8571 7747\nPasscode: 228922 \n 
URL:https://mar-anon.com/meetings/weekly-book-study-online-zoom-2-2/2026-06-26/
CATEGORIES:Cannabinoid Hyperemesis Syndrome,Cannabis-Induced Psyhosis,Dual Diagnosis,Mar-Anon Meeting,Step Study Workshop
LOCATION:
END:VEVENT
END:VCALENDAR