BEGIN:VCALENDAR
VERSION:2.0
PRODID:-//Mar-Anon Family Groups - ECPv6.15.20//NONSGML v1.0//EN
CALSCALE:GREGORIAN
METHOD:PUBLISH
X-ORIGINAL-URL:https://mar-anon.com
X-WR-CALDESC:Events for Mar-Anon Family Groups
REFRESH-INTERVAL;VALUE=DURATION:PT1H
X-Robots-Tag:noindex
X-PUBLISHED-TTL:PT1H
BEGIN:VTIMEZONE
TZID:America/Los_Angeles
BEGIN:DAYLIGHT
TZOFFSETFROM:-0800
TZOFFSETTO:-0700
TZNAME:PDT
DTSTART:20240310T100000
END:DAYLIGHT
BEGIN:STANDARD
TZOFFSETFROM:-0700
TZOFFSETTO:-0800
TZNAME:PST
DTSTART:20241103T090000
END:STANDARD
BEGIN:DAYLIGHT
TZOFFSETFROM:-0800
TZOFFSETTO:-0700
TZNAME:PDT
DTSTART:20250309T100000
END:DAYLIGHT
BEGIN:STANDARD
TZOFFSETFROM:-0700
TZOFFSETTO:-0800
TZNAME:PST
DTSTART:20251102T090000
END:STANDARD
BEGIN:DAYLIGHT
TZOFFSETFROM:-0800
TZOFFSETTO:-0700
TZNAME:PDT
DTSTART:20260308T100000
END:DAYLIGHT
BEGIN:STANDARD
TZOFFSETFROM:-0700
TZOFFSETTO:-0800
TZNAME:PST
DTSTART:20261101T090000
END:STANDARD
END:VTIMEZONE
BEGIN:VEVENT
DTSTART;TZID=America/Los_Angeles:20250428T170000
DTEND;TZID=America/Los_Angeles:20250428T180000
DTSTAMP:20260423T003920
CREATED:20241030T000410Z
LAST-MODIFIED:20241030T000411Z
UID:10008857-1745859600-1745863200@mar-anon.com
SUMMARY:Newport Beach\, CA Mar-Anon HYBRID Meeting
DESCRIPTION:Newport Beach\, CA Mar-Anon Meeting In-Person the 2nd and 4th Mondays 5:00 PM – 6:00 PM PST \nMar-Anon Family Groups is a fellowship of those affected by another person’s marijuana use and offers support & hope for another’s marijuana use.  Its foundation is the Twelve Steps\, adapted from Marijuana Anonymous\, which can be a powerful\, life-changing tool.  We come together to work the steps and offer hope\, comfort\, and support for other members.  We are not a religious group\, instead\, we use the steps as a path of self-discovery and personal change. The only requirement for membership is that a person be affected by another’s marijuana addiction. \n\n\nIn Person held at:\nPACE Recovery Center\n20051 SW Birch Street\nNewport Beach\, CA 92660\nJoin Online Zoom at:\n\n2nd Monday: https://us06web.zoom.us/j/84122993604\n4th Monday: https://us06web.zoom.us/j/89498459564\n\nFor more information or questions please contact:\nDave – 949.294.0349\nJulie – 949.933.0897
URL:https://mar-anon.com/meetings/newport-beach-ca-mar-anon-hybrid-meeting-2-2-2/2025-04-28/
CATEGORIES:Cannabinoid Hyperemesis Syndrome,Cannabis-Induced Psyhosis,Dual Diagnosis,Mar-Anon Meeting
END:VEVENT
END:VCALENDAR