BEGIN:VCALENDAR
VERSION:2.0
PRODID:-//Mar-Anon Family Groups - ECPv6.15.20//NONSGML v1.0//EN
CALSCALE:GREGORIAN
METHOD:PUBLISH
X-ORIGINAL-URL:https://mar-anon.com
X-WR-CALDESC:Events for Mar-Anon Family Groups
REFRESH-INTERVAL;VALUE=DURATION:PT1H
X-Robots-Tag:noindex
X-PUBLISHED-TTL:PT1H
BEGIN:VTIMEZONE
TZID:America/Chicago
BEGIN:DAYLIGHT
TZOFFSETFROM:-0600
TZOFFSETTO:-0500
TZNAME:CDT
DTSTART:20240310T080000
END:DAYLIGHT
BEGIN:STANDARD
TZOFFSETFROM:-0500
TZOFFSETTO:-0600
TZNAME:CST
DTSTART:20241103T070000
END:STANDARD
BEGIN:DAYLIGHT
TZOFFSETFROM:-0600
TZOFFSETTO:-0500
TZNAME:CDT
DTSTART:20250309T080000
END:DAYLIGHT
BEGIN:STANDARD
TZOFFSETFROM:-0500
TZOFFSETTO:-0600
TZNAME:CST
DTSTART:20251102T070000
END:STANDARD
BEGIN:DAYLIGHT
TZOFFSETFROM:-0600
TZOFFSETTO:-0500
TZNAME:CDT
DTSTART:20260308T080000
END:DAYLIGHT
BEGIN:STANDARD
TZOFFSETFROM:-0500
TZOFFSETTO:-0600
TZNAME:CST
DTSTART:20261101T070000
END:STANDARD
END:VTIMEZONE
BEGIN:VTIMEZONE
TZID:America/Los_Angeles
BEGIN:DAYLIGHT
TZOFFSETFROM:-0800
TZOFFSETTO:-0700
TZNAME:PDT
DTSTART:20240310T100000
END:DAYLIGHT
BEGIN:STANDARD
TZOFFSETFROM:-0700
TZOFFSETTO:-0800
TZNAME:PST
DTSTART:20241103T090000
END:STANDARD
BEGIN:DAYLIGHT
TZOFFSETFROM:-0800
TZOFFSETTO:-0700
TZNAME:PDT
DTSTART:20250309T100000
END:DAYLIGHT
BEGIN:STANDARD
TZOFFSETFROM:-0700
TZOFFSETTO:-0800
TZNAME:PST
DTSTART:20251102T090000
END:STANDARD
BEGIN:DAYLIGHT
TZOFFSETFROM:-0800
TZOFFSETTO:-0700
TZNAME:PDT
DTSTART:20260308T100000
END:DAYLIGHT
BEGIN:STANDARD
TZOFFSETFROM:-0700
TZOFFSETTO:-0800
TZNAME:PST
DTSTART:20261101T090000
END:STANDARD
END:VTIMEZONE
BEGIN:VEVENT
DTSTART;TZID=America/Chicago:20250917T090000
DTEND;TZID=America/Chicago:20250917T100000
DTSTAMP:20260419T180740
CREATED:20250523T034918Z
LAST-MODIFIED:20260116T053603Z
UID:10011008-1758099600-1758103200@mar-anon.com
SUMMARY:Bi-Monthly Mom to Mom Fellowship
DESCRIPTION:First and Third Wednesday of Month\n7:00 AM PST/ 8:00 MST / 9:00 CST / 10:00 EST \nJoin us for a Monthly Mom to Mom Fellowship on the first and third Wednesday of every month\nThis meeting will offer support and fellowship with other moms. \nMar-Anon is a fellowship of those affected by another person’s marijuana use.  Its foundation is the Twelve Steps\, adapted from Marijuana Anonymous\, which can be a powerful\, life-changing tool.  We come together to work the steps and offer hope\, comfort\, and support for other members.  We are not a religious group\, instead\, we use the steps as a path of self-discovery and personal change.  The only requirement for membership is that a person is affected by another’s marijuana addiction. \nThis is an online Zoom meeting. \nJoin Zoom Meeting:\nhttps://us06web.zoom.us/j/83875109079 \nMeeting ID: 838 7510 9079\nPasscode: 196314 \n\n\n\n\n\nOne tap mobile:\n+17193594580\,\,83875109079# US\n+12532158782\,\,83875109079# US  \nDial by your location:\n+1 719 359 4580 US\n+1 346 248 7799 US \nMeeting ID: 838 7510 9079\nPasscode: 196314
URL:https://mar-anon.com/meetings/monthly-mom-to-mom-fellowship-online-zoom-4-2/2025-09-17/
CATEGORIES:Cannabinoid Hyperemesis Syndrome,Cannabis-Induced Psyhosis,Dual Diagnosis,Mar-Anon Meeting
LOCATION:
END:VEVENT
BEGIN:VEVENT
DTSTART;TZID=America/Chicago:20250917T120000
DTEND;TZID=America/Chicago:20250917T130000
DTSTAMP:20260419T180740
CREATED:20250529T040719Z
LAST-MODIFIED:20250529T040738Z
UID:10006458-1758110400-1758114000@mar-anon.com
SUMMARY:Step and Share MFG
DESCRIPTION:Wednesday 10:00 AM PST/ 11:00 AM MST / 12:00 PM CST / 1:00 PM EST\nStep and Share MFG\n \nAll are welcome to this meeting. Its focus in on learning more about the 12 Steps and sharing your Experience\, Strength and Hope. You do not have to have taken any of the steps and it is suggested that steps are taken with a sponsor when you are ready. We use the workbook called “Reaching for Personal Freedom\, Living the Legacies by Al-Anon Family Groups (2013) Spiral-bound“. Please feel free to follow along or use your own step workbook. \nJoin Zoom Meeting: https://us06web.zoom.us/j/81235101286\nMeeting ID: 812 3510 1286\nPasscode: 318657 \nOne tap mobile:\n+17193594580\,\,81235101286# US\n+16699006833\,\,81235101286# US (San Jose) \nDial by your location\n+1 719-359-4580 US\n+1 669-900-6833 US\nMeeting ID: 812 3510 1286\nPasscode: 318657
URL:https://mar-anon.com/meetings/wednesdays-step-and-share-meeting-online-zoom-2-2-2-2/2025-09-17/
CATEGORIES:Cannabinoid Hyperemesis Syndrome,Cannabis-Induced Psyhosis,Dual Diagnosis,Mar-Anon Meeting,Step Study Workshop
LOCATION:https://us06web.zoom.us/j/81235101286?pwd=9KTCcJV9qynwdGIzrLOZOUoPYU8Kw3.1
END:VEVENT
BEGIN:VEVENT
DTSTART;TZID=America/Chicago:20250917T180000
DTEND;TZID=America/Chicago:20250917T190000
DTSTAMP:20260419T180740
CREATED:20250529T041240Z
LAST-MODIFIED:20260310T185511Z
UID:10008959-1758132000-1758135600@mar-anon.com
SUMMARY:Adult Qualifiers MFG
DESCRIPTION:This meeting every Wednesday will focus on adult qualifiers (spouses\, boyfriends\, girlfriends\, significant others\, brothers/sisters\, parents etc.) although all are welcome. \nWednesday 4:00 PM Pacific/ 5:00 Mountain / 6:00 Central / 7:00 Eastern \nMar-Anon is a fellowship of those affected by another person’s marijuana use.  Its foundation is the Twelve Steps\, adapted from Marijuana Anonymous\, which can be a powerful\, life-changing tool.  We come together to work the steps and offer hope\, comfort\, and support for other members.  We are not a religious group\, instead\, we use the steps as a path of self-discovery and personal change. The only requirement for membership is that a person be affected by another’s marijuana addiction. \nThis is an online zoom meeting. \nJoin Zoom Meeting:\nhttps://us06web.zoom.us/j/87072852232?pwd=2EWgGurHEM4UXWeDZ8qL4buUgTxBav.1 \nMeeting ID: 870 7285 2232\nPasscode: 196281 \n 
URL:https://mar-anon.com/meetings/mar-anon-wednesday-meeting-focus-on-adult-qualifiers-2-2-2-2-3-2/2025-09-17/
CATEGORIES:Cannabis-Induced Psyhosis,Dual Diagnosis,Mar-Anon Meeting
LOCATION:
END:VEVENT
BEGIN:VEVENT
DTSTART;TZID=America/Los_Angeles:20250917T193000
DTEND;TZID=America/Los_Angeles:20250917T203000
DTSTAMP:20260419T180740
CREATED:20250510T230704Z
LAST-MODIFIED:20250519T202028Z
UID:10008540-1758137400-1758141000@mar-anon.com
SUMMARY:East Bay MFG (IN-PERSON)
DESCRIPTION:East Bay Mar-Anon Family Group\nSt. Alban’s Episcopal Church\, 1501 Washington Avenue\, Albany\, CA 94706\n7:30 – 8:30 PM Pacific Standard Time\n1st and 3rd Wednesdays \nFor more information or questions\, please contact:\n(510) 323-5957 or email east.bay.mar.anon.fg@gmail.com
URL:https://mar-anon.com/meetings/east-bay-mar-anon-meeting-in-person-3-3/2025-09-17/
CATEGORIES:Mar-Anon Meeting
END:VEVENT
END:VCALENDAR