BEGIN:VCALENDAR
VERSION:2.0
PRODID:-//Mar-Anon Family Groups - ECPv6.15.20//NONSGML v1.0//EN
CALSCALE:GREGORIAN
METHOD:PUBLISH
X-ORIGINAL-URL:https://mar-anon.com
X-WR-CALDESC:Events for Mar-Anon Family Groups
REFRESH-INTERVAL;VALUE=DURATION:PT1H
X-Robots-Tag:noindex
X-PUBLISHED-TTL:PT1H
BEGIN:VTIMEZONE
TZID:America/Chicago
BEGIN:DAYLIGHT
TZOFFSETFROM:-0600
TZOFFSETTO:-0500
TZNAME:CDT
DTSTART:20240310T080000
END:DAYLIGHT
BEGIN:STANDARD
TZOFFSETFROM:-0500
TZOFFSETTO:-0600
TZNAME:CST
DTSTART:20241103T070000
END:STANDARD
BEGIN:DAYLIGHT
TZOFFSETFROM:-0600
TZOFFSETTO:-0500
TZNAME:CDT
DTSTART:20250309T080000
END:DAYLIGHT
BEGIN:STANDARD
TZOFFSETFROM:-0500
TZOFFSETTO:-0600
TZNAME:CST
DTSTART:20251102T070000
END:STANDARD
BEGIN:DAYLIGHT
TZOFFSETFROM:-0600
TZOFFSETTO:-0500
TZNAME:CDT
DTSTART:20260308T080000
END:DAYLIGHT
BEGIN:STANDARD
TZOFFSETFROM:-0500
TZOFFSETTO:-0600
TZNAME:CST
DTSTART:20261101T070000
END:STANDARD
END:VTIMEZONE
BEGIN:VEVENT
DTSTART;TZID=America/Chicago:20250809T090000
DTEND;TZID=America/Chicago:20250809T090000
DTSTAMP:20260419T194935
CREATED:20250529T152648Z
LAST-MODIFIED:20250529T153608Z
UID:10003875-1754730000-1754730000@mar-anon.com
SUMMARY:Cannabis-Induced Psychosis\, Cannabinoid Hyperemesis Syndrome and/or Cannabis Use Disorder (addiction) MFG
DESCRIPTION:Saturday 7:00 AM PST/ 8:00 MST / 9:00 CST / 10:00 EST \nThis meeting is to provide support and hope for family members dealing with another person’s Cannabis-Induced Psychosis\, Cannabinoid Hyperemesis Syndrome\, and/or Cannabis Use Disorder (addiction). \nMar-Anon is a fellowship of those affected by another person’s marijuana use.  Its foundation is the Twelve Steps\, adapted from Marijuana Anonymous\, which can be a powerful\, life-changing tool.  We come together to work the steps and offer hope\, comfort\, and support for other members.  We are not a religious group\, instead\, we use the steps as a path of self-discovery and personal change. The only requirement for membership is that a person be affected by another’s marijuana addiction. \nJoin Zoom Meeting: https://us06web.zoom.us/j/83069631118 \nMeeting ID: 830 6963 1118\nPasscode: 423632 \nOne tap mobile\n+17193594580\,\,83069631118# US\n+13462487799\,\,83069631118# US (Houston) \nDial by your location\n+1 719 359 4580 US\n+1 346 248 7799 US (Houston)\nMeeting ID: 830 6963 1118\nPasscode: 423632 \n 
URL:https://mar-anon.com/meetings/mar-anon-meeting-for-cannabis-induced-psychosis-cannabinoid-hyperemesis-syndrome-and-or-cannabis-use-disorder-addiction-online-zoom-2-2-2-2/2025-08-09/
LOCATION:
END:VEVENT
END:VCALENDAR