BEGIN:VCALENDAR
VERSION:2.0
PRODID:-//Mar-Anon Family Groups - ECPv6.15.20//NONSGML v1.0//EN
CALSCALE:GREGORIAN
METHOD:PUBLISH
X-WR-CALNAME:Mar-Anon Family Groups
X-ORIGINAL-URL:https://mar-anon.com
X-WR-CALDESC:Events for Mar-Anon Family Groups
REFRESH-INTERVAL;VALUE=DURATION:PT1H
X-Robots-Tag:noindex
X-PUBLISHED-TTL:PT1H
BEGIN:VTIMEZONE
TZID:America/Chicago
BEGIN:DAYLIGHT
TZOFFSETFROM:-0600
TZOFFSETTO:-0500
TZNAME:CDT
DTSTART:20240310T080000
END:DAYLIGHT
BEGIN:STANDARD
TZOFFSETFROM:-0500
TZOFFSETTO:-0600
TZNAME:CST
DTSTART:20241103T070000
END:STANDARD
BEGIN:DAYLIGHT
TZOFFSETFROM:-0600
TZOFFSETTO:-0500
TZNAME:CDT
DTSTART:20250309T080000
END:DAYLIGHT
BEGIN:STANDARD
TZOFFSETFROM:-0500
TZOFFSETTO:-0600
TZNAME:CST
DTSTART:20251102T070000
END:STANDARD
BEGIN:DAYLIGHT
TZOFFSETFROM:-0600
TZOFFSETTO:-0500
TZNAME:CDT
DTSTART:20260308T080000
END:DAYLIGHT
BEGIN:STANDARD
TZOFFSETFROM:-0500
TZOFFSETTO:-0600
TZNAME:CST
DTSTART:20261101T070000
END:STANDARD
END:VTIMEZONE
BEGIN:VEVENT
DTSTART;TZID=America/Chicago:20250529T120000
DTEND;TZID=America/Chicago:20250529T130000
DTSTAMP:20260420T142948
CREATED:20250523T034034Z
LAST-MODIFIED:20250528T191730Z
UID:10012162-1748520000-1748523600@mar-anon.com
SUMMARY:Partners in Healing MFG
DESCRIPTION:The purpose of this meeting every Thursday is to explore how our spouse or partner’s substance use has affected us and our relationships. \nThursday 10:00 PM PST/ 11:00 AM MST / 12:00 PM CST / 1:00 PM EST \nMar-Anon is a fellowship of those affected by another person’s marijuana use.  Its foundation is the Twelve Steps\, adapted from Marijuana Anonymous\, which can be a powerful\, life-changing tool.  We come together to work the steps and offer hope\, comfort\, and support for other members.  We are not a religious group\, instead\, we use the steps as a path of self-discovery and personal change. The only requirement for membership is that a person be affected by another’s marijuana addiction. \nThis is an online zoom meeting. \nJoin Zoom Meeting:\nhttps://us02web.zoom.us/j/86118073867?pwd=Ovrp9CB9VYZQS4BaIVkIXmPssAhCMP.1\nMeeting ID: 861 1807 3867\nPasscode: 104213 \nOne tap mobile+17193594580\,\,86118073867# US\n+12532158782\,\,86118073867# US  \nDial by your location\n+1 719 359 4580 US\n+1 346 248 7799 US (Houston)\nMeeting ID: 861 1807 3867\nPasscode: 104213
URL:https://mar-anon.com/meetings/partners-in-healing-mfg-2/
LOCATION:
END:VEVENT
END:VCALENDAR