BEGIN:VCALENDAR
VERSION:2.0
PRODID:-//Mar-Anon Family Groups - ECPv6.15.20//NONSGML v1.0//EN
CALSCALE:GREGORIAN
METHOD:PUBLISH
X-WR-CALNAME:Mar-Anon Family Groups
X-ORIGINAL-URL:https://mar-anon.com
X-WR-CALDESC:Events for Mar-Anon Family Groups
REFRESH-INTERVAL;VALUE=DURATION:PT1H
X-Robots-Tag:noindex
X-PUBLISHED-TTL:PT1H
BEGIN:VTIMEZONE
TZID:America/Chicago
BEGIN:DAYLIGHT
TZOFFSETFROM:-0600
TZOFFSETTO:-0500
TZNAME:CDT
DTSTART:20240310T080000
END:DAYLIGHT
BEGIN:STANDARD
TZOFFSETFROM:-0500
TZOFFSETTO:-0600
TZNAME:CST
DTSTART:20241103T070000
END:STANDARD
BEGIN:DAYLIGHT
TZOFFSETFROM:-0600
TZOFFSETTO:-0500
TZNAME:CDT
DTSTART:20250309T080000
END:DAYLIGHT
BEGIN:STANDARD
TZOFFSETFROM:-0500
TZOFFSETTO:-0600
TZNAME:CST
DTSTART:20251102T070000
END:STANDARD
BEGIN:DAYLIGHT
TZOFFSETFROM:-0600
TZOFFSETTO:-0500
TZNAME:CDT
DTSTART:20260308T080000
END:DAYLIGHT
BEGIN:STANDARD
TZOFFSETFROM:-0500
TZOFFSETTO:-0600
TZNAME:CST
DTSTART:20261101T070000
END:STANDARD
END:VTIMEZONE
BEGIN:VTIMEZONE
TZID:America/Los_Angeles
BEGIN:DAYLIGHT
TZOFFSETFROM:-0800
TZOFFSETTO:-0700
TZNAME:PDT
DTSTART:20240310T100000
END:DAYLIGHT
BEGIN:STANDARD
TZOFFSETFROM:-0700
TZOFFSETTO:-0800
TZNAME:PST
DTSTART:20241103T090000
END:STANDARD
BEGIN:DAYLIGHT
TZOFFSETFROM:-0800
TZOFFSETTO:-0700
TZNAME:PDT
DTSTART:20250309T100000
END:DAYLIGHT
BEGIN:STANDARD
TZOFFSETFROM:-0700
TZOFFSETTO:-0800
TZNAME:PST
DTSTART:20251102T090000
END:STANDARD
BEGIN:DAYLIGHT
TZOFFSETFROM:-0800
TZOFFSETTO:-0700
TZNAME:PDT
DTSTART:20260308T100000
END:DAYLIGHT
BEGIN:STANDARD
TZOFFSETFROM:-0700
TZOFFSETTO:-0800
TZNAME:PST
DTSTART:20261101T090000
END:STANDARD
END:VTIMEZONE
BEGIN:VEVENT
DTSTART;TZID=America/Chicago:20250416T090000
DTEND;TZID=America/Chicago:20250416T100000
DTSTAMP:20260420T223540
CREATED:20250310T191354Z
LAST-MODIFIED:20250310T191354Z
UID:10011003-1744794000-1744797600@mar-anon.com
SUMMARY:Monthly Mom to Mom Fellowship ONLINE/ZOOM
DESCRIPTION:First and Third Wednesday of Month\n7:00 AM PST/ 8:00 MST / 9:00 CST / 10:00 EST \nJoin us for a Monthly Mom to Mom Fellowship once a month on the first Wednesday.\nThis meeting will offer support and fellowship with other moms. \nMar-Anon is a fellowship of those affected by another person’s marijuana use.  Its foundation is the Twelve Steps\, adapted from Marijuana Anonymous\, which can be a powerful\, life-changing tool.  We come together to work the steps and offer hope\, comfort\, and support for other members.  We are not a religious group\, instead\, we use the steps as a path of self-discovery and personal change.  The only requirement for membership is that a person is affected by another’s marijuana addiction. \nThis is an online Zoom meeting. \nJoin Zoom Meeting\nhttps://us06web.zoom.us/j/83875109079\nMeeting ID: 838 7510 9079\nPasscode: 841944 \nOne tap mobile:\n+17193594580\,\,83875109079# US\n+12532158782\,\,83875109079# US  \nDial by your location:\n+1 719 359 4580 US\n+1 346 248 7799 US \nMeeting ID: 838 7510 9079\nPasscode: 841944
URL:https://mar-anon.com/meetings/monthly-mom-to-mom-fellowship-online-zoom-4/2025-04-16/
END:VEVENT
BEGIN:VEVENT
DTSTART;TZID=America/Chicago:20250416T120000
DTEND;TZID=America/Chicago:20250416T130000
DTSTAMP:20260420T223540
CREATED:20240528T194118Z
LAST-MODIFIED:20241003T232217Z
UID:10006436-1744804800-1744808400@mar-anon.com
SUMMARY:Wednesday Step and Share Meeting ONLINE/Zoom
DESCRIPTION:Wednesday 10:00 AM PST/ 11:00 AM MST / 12:00 PM CST / 1:00 PM EST\nStep and Share\n \nThis meeting is for members who are interested in learning more about the 12 Steps and sharing their Experience\, Strength and Hope. We will be using the workbook called “Reaching for Personal Freedom\, Living the Legacies by Al-Anon Family Groups (2013) Spiral-bound“. Please feel free to follow along or use your own step workbook. \nJoin Zoom Meeting: https://us06web.zoom.us/j/81235101286\nMeeting ID: 812 3510 1286\nPasscode: 576389 \nOne tap mobile:\n+17193594580\,\,81235101286# US\n+16699006833\,\,81235101286# US (San Jose) \nDial by your location\n+1 719-359-4580 US\n+1 669-900-6833 US\nMeeting ID: 812 3510 1286\nPasscode: 576389
URL:https://mar-anon.com/meetings/wednesdays-step-and-share-meeting-online-zoom-2/2025-04-16/
CATEGORIES:Cannabinoid Hyperemesis Syndrome,Cannabis-Induced Psyhosis,Dual Diagnosis,Mar-Anon Meeting,Step Study Workshop
END:VEVENT
BEGIN:VEVENT
DTSTART;TZID=America/Chicago:20250416T180000
DTEND;TZID=America/Chicago:20250416T190000
DTSTAMP:20260420T223540
CREATED:20241030T213106Z
LAST-MODIFIED:20250108T190530Z
UID:10008937-1744826400-1744830000@mar-anon.com
SUMMARY:Mar-Anon Wednesday Meeting: adult qualifiers ONLINE/ZOOM
DESCRIPTION:This meeting every Wednesday will focus on adult qualifiers (spouses\, boyfriends\, girlfriends\, significant others\, brothers/sisters\, parents etc.) although all are welcome. \nWednesday 4:00 PM PST/ 5:00 MST / 6:00 CST / 7:00 EST \nMar-Anon is a fellowship of those affected by another person’s marijuana use.  Its foundation is the Twelve Steps\, adapted from Marijuana Anonymous\, which can be a powerful\, life-changing tool.  We come together to work the steps and offer hope\, comfort\, and support for other members.  We are not a religious group\, instead\, we use the steps as a path of self-discovery and personal change. The only requirement for membership is that a person be affected by another’s marijuana addiction. \nThis is an online zoom meeting. \nJoin Zoom Meeting: https://us06web.zoom.us/j/88101893504 \nMeeting ID: 881 0189 3504\nPasscode: 944288 \nOne tap mobile+17193594580\,\,88101893504# US+12532158782\,\,88101893504# US  \nDial by your location\n+1 719 359 4580 US\n+1 346 248 7799 US (Houston)\nMeeting ID: 881 0189 3504\nPasscode: 944288
URL:https://mar-anon.com/meetings/mar-anon-wednesday-meeting-focus-on-adult-qualifiers-2-2-2-2/2025-04-16/
CATEGORIES:Cannabis-Induced Psyhosis,Dual Diagnosis,Mar-Anon Meeting
END:VEVENT
BEGIN:VEVENT
DTSTART;TZID=America/Los_Angeles:20250416T193000
DTEND;TZID=America/Los_Angeles:20250416T203000
DTSTAMP:20260420T223540
CREATED:20240920T165915Z
LAST-MODIFIED:20241003T231251Z
UID:10008535-1744831800-1744835400@mar-anon.com
SUMMARY:East Bay Mar-Anon Meeting IN-PERSON
DESCRIPTION:East Bay Mar-Anon Family Group\nSt. Alban’s Episcopal Church\, 1501 Washington Avenue\, Albany\, CA 94706\n7:30 – 8:30 PM Pacific Standard Time\n1st and 3rd Wednesdays \nFor more information or questions\, please contact:\nMary @ (510) 323-5957
URL:https://mar-anon.com/meetings/east-bay-mar-anon-meeting-in-person-3/2025-04-16/
CATEGORIES:Mar-Anon Meeting
END:VEVENT
END:VCALENDAR