BEGIN:VCALENDAR
VERSION:2.0
PRODID:-//Mar-Anon Family Groups - ECPv6.15.20//NONSGML v1.0//EN
CALSCALE:GREGORIAN
METHOD:PUBLISH
X-ORIGINAL-URL:https://mar-anon.com
X-WR-CALDESC:Events for Mar-Anon Family Groups
REFRESH-INTERVAL;VALUE=DURATION:PT1H
X-Robots-Tag:noindex
X-PUBLISHED-TTL:PT1H
BEGIN:VTIMEZONE
TZID:America/Chicago
BEGIN:DAYLIGHT
TZOFFSETFROM:-0600
TZOFFSETTO:-0500
TZNAME:CDT
DTSTART:20240310T080000
END:DAYLIGHT
BEGIN:STANDARD
TZOFFSETFROM:-0500
TZOFFSETTO:-0600
TZNAME:CST
DTSTART:20241103T070000
END:STANDARD
BEGIN:DAYLIGHT
TZOFFSETFROM:-0600
TZOFFSETTO:-0500
TZNAME:CDT
DTSTART:20250309T080000
END:DAYLIGHT
BEGIN:STANDARD
TZOFFSETFROM:-0500
TZOFFSETTO:-0600
TZNAME:CST
DTSTART:20251102T070000
END:STANDARD
BEGIN:DAYLIGHT
TZOFFSETFROM:-0600
TZOFFSETTO:-0500
TZNAME:CDT
DTSTART:20260308T080000
END:DAYLIGHT
BEGIN:STANDARD
TZOFFSETFROM:-0500
TZOFFSETTO:-0600
TZNAME:CST
DTSTART:20261101T070000
END:STANDARD
END:VTIMEZONE
BEGIN:VEVENT
DTSTART;TZID=America/Chicago:20250415T110000
DTEND;TZID=America/Chicago:20250415T120000
DTSTAMP:20260420T160315
CREATED:20240528T190820Z
LAST-MODIFIED:20240528T191231Z
UID:10003076-1744714800-1744718400@mar-anon.com
SUMMARY:Mar-Anon Tuesday Meeting: Dual Diagnosis ONLINE/ZOOM
DESCRIPTION:Mar-Anon Tuesday Meeting: Dual Diagnosis ONLINE/ZOOM\n \nTuesday 9:00 AM PST/ 10:00 MST / 11:00 CST / 12:00 EST\nWe open the meeting 10 minutes early for hellos if you want to join us \nThis meeting provides support and hope for family members dealing “Dual Diagnosis” and open to all regardless of their loved one’s diagnosis or suspected diagnosis (included psychosis\, CHS\, depression\, bipolar\, etc) \nMar-Anon is a fellowship of those affected by another person’s marijuana use.  Its foundation is the Twelve Steps which can be a powerful\, life-changing tool.  We come together to work the steps and offer hope\, comfort\, and support for other members.  We are not a religious group. Instead\, we use the steps as a path of self-discovery and personal change. The only requirement for membership is that a person is affected by another’s marijuana addiction. \nThis is an online zoom meeting. \nJOIN ZOOM MEETING: https://us06web.zoom.us/j/89912719084\nMeeting ID: 899 1271 9084\nPasscode: 477641 \nOne tap mobile\n+17193594580\,\, 89912719084# US\n+12532050468\,\,89912719084# US \nDial by your location\n+1 719 359 4580 US\n+1 346 248 7799 US (Houston)\nMeeting ID: 899 1271 9084\nPasscode: 477641
URL:https://mar-anon.com/meetings/mar-anon-tuesday-meeting-dual-diagnosis-online-zoom-2-2-2/2025-04-15/
END:VEVENT
END:VCALENDAR