BEGIN:VCALENDAR
VERSION:2.0
PRODID:-//Mar-Anon Family Groups - ECPv6.15.20//NONSGML v1.0//EN
CALSCALE:GREGORIAN
METHOD:PUBLISH
X-ORIGINAL-URL:https://mar-anon.com
X-WR-CALDESC:Events for Mar-Anon Family Groups
REFRESH-INTERVAL;VALUE=DURATION:PT1H
X-Robots-Tag:noindex
X-PUBLISHED-TTL:PT1H
BEGIN:VTIMEZONE
TZID:America/Los_Angeles
BEGIN:DAYLIGHT
TZOFFSETFROM:-0800
TZOFFSETTO:-0700
TZNAME:PDT
DTSTART:20240310T100000
END:DAYLIGHT
BEGIN:STANDARD
TZOFFSETFROM:-0700
TZOFFSETTO:-0800
TZNAME:PST
DTSTART:20241103T090000
END:STANDARD
BEGIN:DAYLIGHT
TZOFFSETFROM:-0800
TZOFFSETTO:-0700
TZNAME:PDT
DTSTART:20250309T100000
END:DAYLIGHT
BEGIN:STANDARD
TZOFFSETFROM:-0700
TZOFFSETTO:-0800
TZNAME:PST
DTSTART:20251102T090000
END:STANDARD
BEGIN:DAYLIGHT
TZOFFSETFROM:-0800
TZOFFSETTO:-0700
TZNAME:PDT
DTSTART:20260308T100000
END:DAYLIGHT
BEGIN:STANDARD
TZOFFSETFROM:-0700
TZOFFSETTO:-0800
TZNAME:PST
DTSTART:20261101T090000
END:STANDARD
END:VTIMEZONE
BEGIN:VTIMEZONE
TZID:America/Chicago
BEGIN:DAYLIGHT
TZOFFSETFROM:-0600
TZOFFSETTO:-0500
TZNAME:CDT
DTSTART:20240310T080000
END:DAYLIGHT
BEGIN:STANDARD
TZOFFSETFROM:-0500
TZOFFSETTO:-0600
TZNAME:CST
DTSTART:20241103T070000
END:STANDARD
BEGIN:DAYLIGHT
TZOFFSETFROM:-0600
TZOFFSETTO:-0500
TZNAME:CDT
DTSTART:20250309T080000
END:DAYLIGHT
BEGIN:STANDARD
TZOFFSETFROM:-0500
TZOFFSETTO:-0600
TZNAME:CST
DTSTART:20251102T070000
END:STANDARD
BEGIN:DAYLIGHT
TZOFFSETFROM:-0600
TZOFFSETTO:-0500
TZNAME:CDT
DTSTART:20260308T080000
END:DAYLIGHT
BEGIN:STANDARD
TZOFFSETFROM:-0500
TZOFFSETTO:-0600
TZNAME:CST
DTSTART:20261101T070000
END:STANDARD
END:VTIMEZONE
BEGIN:VEVENT
DTSTART;TZID=America/Los_Angeles:20250310T170000
DTEND;TZID=America/Los_Angeles:20250310T180000
DTSTAMP:20260420T191733
CREATED:20240920T170959Z
LAST-MODIFIED:20241029T234231Z
UID:10008736-1741626000-1741629600@mar-anon.com
SUMMARY:Newport Beach\, CA Mar-Anon HYBRID Meeting
DESCRIPTION:Newport Beach\, CA Mar-Anon HYBRID Meeting the 2nd and 4th Mondays 5:00 PM-6:00 PM PST \nMar-Anon Family Groups is a fellowship of those affected by another person’s marijuana use and offers support & hope for another’s marijuana use.  Its foundation is the Twelve Steps\, adapted from Marijuana Anonymous\, which can be a powerful\, life-changing tool.  We come together to work the steps and offer hope\, comfort\, and support for other members.  We are not a religious group\, instead\, we use the steps as a path of self-discovery and personal change. The only requirement for membership is that a person be affected by another’s marijuana addiction. \nIn- Person held at\nPACE Recovery Center\n20051 SW Birch Street\nNewport Beach\, CA 92660\nJoin Zoom Meeting\n2nd Monday: https://us06web.zoom.us/j/84122993604\n4th Monday: https://us06web.zoom.us/j/89498459564\nFor more information or questions\, please contact:\nDave – 949.294.0349\nJulie – 949.933.0897
URL:https://mar-anon.com/meetings/newport-beach-ca-mar-anon-hybrid-meeting-3/2025-03-10/
CATEGORIES:Mar-Anon Meeting
END:VEVENT
BEGIN:VEVENT
DTSTART;TZID=America/Chicago:20250310T180000
DTEND;TZID=America/Chicago:20250310T190000
DTSTAMP:20260420T191733
CREATED:20210629T030752Z
LAST-MODIFIED:20241126T001337Z
UID:10009341-1741629600-1741633200@mar-anon.com
SUMMARY:Mar-Anon Monday Meeting
DESCRIPTION:Monday Mar-Anon Zoom Support Meetings \nMar-Anon is a fellowship of those affected by another person’s marijuana use.  Its foundation is the Twelve Steps\, adapted from Marijuana Anonymous\, which can be a powerful\, life-changing tool.  We come together to work the steps and offer hope\, comfort\, and support for other members.  We are not a religious group\, instead\, we use the steps as a path of self-discovery and personal change.  The only requirement for membership is that a person is affected by another’s marijuana addiction. \nThis is an online Zoom meeting. \nJoin Zoom Meeting\nMeeting ID: 867 2659 2308 \nOne tap mobile\n+17193594580\,\,86726592308# US\n+12532158782\,\,86726592308# US (Tacoma) \n 
URL:https://mar-anon.com/meetings/mar-anon-monday-meetings-2022-10-24/2025-03-10/
CATEGORIES:Mar-Anon Meeting
ORGANIZER;CN="Mar-Anon":MAILTO:maranon.group@gmail.com
END:VEVENT
END:VCALENDAR