BEGIN:VCALENDAR
VERSION:2.0
PRODID:-//Mar-Anon Family Groups - ECPv6.15.20//NONSGML v1.0//EN
CALSCALE:GREGORIAN
METHOD:PUBLISH
X-ORIGINAL-URL:https://mar-anon.com
X-WR-CALDESC:Events for Mar-Anon Family Groups
REFRESH-INTERVAL;VALUE=DURATION:PT1H
X-Robots-Tag:noindex
X-PUBLISHED-TTL:PT1H
BEGIN:VTIMEZONE
TZID:America/Chicago
BEGIN:DAYLIGHT
TZOFFSETFROM:-0600
TZOFFSETTO:-0500
TZNAME:CDT
DTSTART:20240310T080000
END:DAYLIGHT
BEGIN:STANDARD
TZOFFSETFROM:-0500
TZOFFSETTO:-0600
TZNAME:CST
DTSTART:20241103T070000
END:STANDARD
BEGIN:DAYLIGHT
TZOFFSETFROM:-0600
TZOFFSETTO:-0500
TZNAME:CDT
DTSTART:20250309T080000
END:DAYLIGHT
BEGIN:STANDARD
TZOFFSETFROM:-0500
TZOFFSETTO:-0600
TZNAME:CST
DTSTART:20251102T070000
END:STANDARD
BEGIN:DAYLIGHT
TZOFFSETFROM:-0600
TZOFFSETTO:-0500
TZNAME:CDT
DTSTART:20260308T080000
END:DAYLIGHT
BEGIN:STANDARD
TZOFFSETFROM:-0500
TZOFFSETTO:-0600
TZNAME:CST
DTSTART:20261101T070000
END:STANDARD
END:VTIMEZONE
BEGIN:VEVENT
DTSTART;TZID=America/Chicago:20250228T120000
DTEND;TZID=America/Chicago:20250228T130000
DTSTAMP:20260420T191711
CREATED:20241026T191328Z
LAST-MODIFIED:20241027T163328Z
UID:10003669-1740744000-1740747600@mar-anon.com
SUMMARY:Global Friends Share MFG
DESCRIPTION:FRI. 10:00 AM PST/1:00 PM EST/Ireland 6:00 PM/Berlin 7:00 PM/New Delhi 10:30 PM/Sydney SAT. 4:00 AM \nMar-Anon is a fellowship of those affected by another person’s marijuana use.  Its foundation is the Twelve Steps\, adapted from Marijuana Anonymous\, which can be a powerful\, life-changing tool.  We come together to work the steps and offer hope\, comfort\, and support for other members.  We are not a religious group\, instead\, we use the steps as a path of self-discovery and personal change.  The only requirement for membership in Mar-Anon is that a person be affected by another’s marijuana use. \nThis is an online Zoom meeting. \nJoin Zoom Meeting: https://us06web.zoom.us/j/88587637569\nMeeting ID: 885 8763 7569\nPasscode: 091782 \nOne tap mobile\n+17193594580\,\,88587637569# US\n+16699006833\,\,88587637569# US (San Jose) \nDial by your location\n+1 719 359 4580 US\n+1 346 248 7799 US (Houston)\nMeeting ID: 885 8763 7569\nPasscode: 091782
URL:https://mar-anon.com/meetings/global-friends-share-mfg-zoom-2-2-2-2/2025-02-28/
CATEGORIES:Cannabinoid Hyperemesis Syndrome,Cannabis-Induced Psyhosis,Dual Diagnosis,Mar-Anon Meeting
END:VEVENT
BEGIN:VEVENT
DTSTART;TZID=America/Chicago:20250228T170000
DTEND;TZID=America/Chicago:20250228T180000
DTSTAMP:20260420T191711
CREATED:20250113T165912Z
LAST-MODIFIED:20250113T165912Z
UID:10010430-1740762000-1740765600@mar-anon.com
SUMMARY:Weekly Book Study ONLINE/ZOOM
DESCRIPTION:Weekly book study from “Paths to Recovery Al-Anon’s Steps\, Traditions\, and Concepts\nFriday 3:00 PM PST/ 4:00 MST / 5:00 CST / 6:00 EST \nAll are welcome. Having a copy of the book is encouraged but not required. \nEach meeting we will read from the Al-Anon approved literature: “Paths to Recovery Al-anon’s Steps\, Traditions\, and Concepts”. We will rotate each week between a step\, a tradition\, and a concept. We will read aloud\, discuss as we go\, and reflect on questions presented in the text. Jump in ANY time\, owning the book is optional. \nJoin Zoom Meeting:\nhttps://us06web.zoom.us/j/86291217631?pwd=kbHCZxn7bq44N7S2zOt1bNEQ4KTYJl.1 \nMeeting ID: 862 9121 7631\nPasscode: 699712 \nOne tap mobile:\n+17193594580\,\,86291217631# US\n+16694449171\,\,86291217631# US \nDial by your location\n+1 719 359 4580 US\n+1 669 444 9171 US\nMeeting ID: 862 9121 7631\nPasscode: 699712
URL:https://mar-anon.com/meetings/weekly-book-study-online-zoom/2025-02-28/
END:VEVENT
END:VCALENDAR