BEGIN:VCALENDAR
VERSION:2.0
PRODID:-//Mar-Anon Family Groups - ECPv6.15.20//NONSGML v1.0//EN
CALSCALE:GREGORIAN
METHOD:PUBLISH
X-ORIGINAL-URL:https://mar-anon.com
X-WR-CALDESC:Events for Mar-Anon Family Groups
REFRESH-INTERVAL;VALUE=DURATION:PT1H
X-Robots-Tag:noindex
X-PUBLISHED-TTL:PT1H
BEGIN:VTIMEZONE
TZID:America/Chicago
BEGIN:DAYLIGHT
TZOFFSETFROM:-0600
TZOFFSETTO:-0500
TZNAME:CDT
DTSTART:20230312T080000
END:DAYLIGHT
BEGIN:STANDARD
TZOFFSETFROM:-0500
TZOFFSETTO:-0600
TZNAME:CST
DTSTART:20231105T070000
END:STANDARD
BEGIN:DAYLIGHT
TZOFFSETFROM:-0600
TZOFFSETTO:-0500
TZNAME:CDT
DTSTART:20240310T080000
END:DAYLIGHT
BEGIN:STANDARD
TZOFFSETFROM:-0500
TZOFFSETTO:-0600
TZNAME:CST
DTSTART:20241103T070000
END:STANDARD
BEGIN:DAYLIGHT
TZOFFSETFROM:-0600
TZOFFSETTO:-0500
TZNAME:CDT
DTSTART:20250309T080000
END:DAYLIGHT
BEGIN:STANDARD
TZOFFSETFROM:-0500
TZOFFSETTO:-0600
TZNAME:CST
DTSTART:20251102T070000
END:STANDARD
END:VTIMEZONE
BEGIN:VEVENT
DTSTART;TZID=America/Chicago:20241010T203000
DTEND;TZID=America/Chicago:20241010T213000
DTSTAMP:20260422T165832
CREATED:20240528T230444Z
LAST-MODIFIED:20240528T230445Z
UID:10004180-1728592200-1728595800@mar-anon.com
SUMMARY:Mar-Anon Thursday Meeting "Just for Today" ONLINE/ZOOM
DESCRIPTION:Mar-Anon Thursday Meeting “Just for Today”  \nThursday 6:30 PM PST/ 7:30 MST / 8:30 CST / 9:30 EST \nMar-Anon Family Groups is a fellowship of those affected by another person’s marijuana use.  Its foundation is the Twelve Steps\, adapted from Marijuana Anonymous\, which can be a powerful\, life-changing tool.  We come together to work the steps and offer hope\, comfort\, and support for other members.  We are not a religious group\, instead\, we use the steps as a path of self-discovery and personal change. The only requirement for membership is that a person be affected by another’s marijuana addiction. \nJoin Zoom Meeting: https://us06web.zoom.us/j/84649269788 \nMeeting ID: 846 4926 9788\nPasscode: 386987 \nOne tap mobile\n+17193594580\,\,84649269788# US\n+16694449171\,\,84649269788# US \nDial by your location\n+1 719 359 4580 US\n+1 669 444 9171 US\nMeeting ID: 846 4926 9788\nPasscode: 386987 \n 
URL:https://mar-anon.com/meetings/mar-anon-thursday-meeting-just-for-today-online-zoom-2/2024-10-10/
END:VEVENT
END:VCALENDAR