BEGIN:VCALENDAR
VERSION:2.0
PRODID:-//Mar-Anon Family Groups - ECPv6.15.20//NONSGML v1.0//EN
CALSCALE:GREGORIAN
METHOD:PUBLISH
X-ORIGINAL-URL:https://mar-anon.com
X-WR-CALDESC:Events for Mar-Anon Family Groups
REFRESH-INTERVAL;VALUE=DURATION:PT1H
X-Robots-Tag:noindex
X-PUBLISHED-TTL:PT1H
BEGIN:VTIMEZONE
TZID:America/Chicago
BEGIN:DAYLIGHT
TZOFFSETFROM:-0600
TZOFFSETTO:-0500
TZNAME:CDT
DTSTART:20230312T080000
END:DAYLIGHT
BEGIN:STANDARD
TZOFFSETFROM:-0500
TZOFFSETTO:-0600
TZNAME:CST
DTSTART:20231105T070000
END:STANDARD
BEGIN:DAYLIGHT
TZOFFSETFROM:-0600
TZOFFSETTO:-0500
TZNAME:CDT
DTSTART:20240310T080000
END:DAYLIGHT
BEGIN:STANDARD
TZOFFSETFROM:-0500
TZOFFSETTO:-0600
TZNAME:CST
DTSTART:20241103T070000
END:STANDARD
BEGIN:DAYLIGHT
TZOFFSETFROM:-0600
TZOFFSETTO:-0500
TZNAME:CDT
DTSTART:20250309T080000
END:DAYLIGHT
BEGIN:STANDARD
TZOFFSETFROM:-0500
TZOFFSETTO:-0600
TZNAME:CST
DTSTART:20251102T070000
END:STANDARD
END:VTIMEZONE
BEGIN:VEVENT
DTSTART;TZID=America/Chicago:20240831T090000
DTEND;TZID=America/Chicago:20240831T090000
DTSTAMP:20260422T165834
CREATED:20240528T231242Z
LAST-MODIFIED:20240528T231243Z
UID:10002200-1725094800-1725094800@mar-anon.com
SUMMARY:Mar-Anon Meeting for Cannabis-Induced Psychosis\, Cannabinoid Hyperemesis Syndrome and/or Cannabis Use Disorder (addiction). ONLINE/ZOOM
DESCRIPTION:Saturday 7:00 AM PST/ 8:00 MST / 9:00 CST / 10:00 EST \nThis meeting is to provide support and hope for family members dealing with another person’s Cannabis-Induced Psychosis\, Cannabinoid Hyperemesis Syndrome\, and/or Cannabis Use Disorder (addiction). \nMar-Anon is a fellowship of those affected by another person’s marijuana use.  Its foundation is the Twelve Steps\, adapted from Marijuana Anonymous\, which can be a powerful\, life-changing tool.  We come together to work the steps and offer hope\, comfort\, and support for other members.  We are not a religious group\, instead\, we use the steps as a path of self-discovery and personal change. The only requirement for membership is that a person be affected by another’s marijuana addiction. \nJoin Zoom Meeting: https://us06web.zoom.us/j/83069631118 \nMeeting ID: 830 6963 1118\nPasscode: 710499 \nOne tap mobile\n+17193594580\,\,83069631118# US\n+13462487799\,\,83069631118# US (Houston) \nDial by your location\n+1 719 359 4580 US\n+1 346 248 7799 US (Houston)\nMeeting ID: 830 6963 1118\nPasscode: 710499 \n 
URL:https://mar-anon.com/meetings/mar-anon-meeting-for-cannabis-induced-psychosis-cannabinoid-hyperemesis-syndrome-and-or-cannabis-use-disorder-addiction-online-zoom-2-2/2024-08-31/
END:VEVENT
BEGIN:VEVENT
DTSTART;TZID=America/Chicago:20240831T124500
DTEND;TZID=America/Chicago:20240831T134500
DTSTAMP:20260422T165834
CREATED:20240805T160626Z
LAST-MODIFIED:20240805T163840Z
UID:10007176-1725108300-1725111900@mar-anon.com
SUMMARY:Mar-Anon Annual Convention Hybrid meeting #1 ONLINE & In-person San Francisco\, CA 2024
DESCRIPTION:Saturday\, August 31 10:45 to 11:45 am PST/ 11:45 am MST / 12:45 pm CST / 1:45 pm EST \nMar-Anon Family Groups will hold our THIRD annual convention in conjunction with the Marijuana Anonymous Convention on August 30 – September 1st\, 2024 in San Francisco\, CA hosted by District 2 San Francisco and East Bay\, California.  The MA World Convention is the annual recovery and social gathering for all of Marijuana Anonymous.  It will be an excellent opportunity for growth in recovery and personal connections. \nWe are holding two Hybrid meetings on Saturday\, August 31 at 10:45 to 11:45 am PST (11:45 am MST/ 12:45 pm CST / 1:45 pm EST)  and 1:45 to 2:45 PST (2:45 MST / 3:45 CST / 4:45 EST).  \nMar-Anon is a fellowship of those affected by another person’s marijuana use and offers support & hope for another’s marijuana use.  We are coming together to work the steps and offer hope\, comfort\, and support for other members in person and on zoom.  We are not a religious group\, instead\, we use the steps as a path of self-discovery and personal change. The only requirement for membership is that a person be affected by another’s marijuana addiction.\nThis is an online Zoom meeting. \nJoin Zoom Meeting: https://us06web.zoom.us/j/82908513986?pwd=K9dOobZ6Fw3cas9AX3hiFTpzU8bk4b.1\nMeeting ID: 829 0851 3986\nPasscode: 807280 \nOne tap mobile\n+17193594580\,\,82908513986# US\n+13462487799\,\,82908513986# US (Houston) \nDial by your location:\n+1 719 359 4580 US\n+1 346 248 7799 US (Houston)\nMeeting ID: 829 0851 3986\nPasscode: 807280
URL:https://mar-anon.com/meetings/mar-anon-annual-convention-hybrid-meeting-online-in-person-san-francisco-ca-2024/
CATEGORIES:Cannabinoid Hyperemesis Syndrome,Cannabis-Induced Psyhosis,Dual Diagnosis,Mar-Anon Meeting
END:VEVENT
BEGIN:VEVENT
DTSTART;TZID=America/Chicago:20240831T154500
DTEND;TZID=America/Chicago:20240831T164500
DTSTAMP:20260422T165834
CREATED:20240805T162915Z
LAST-MODIFIED:20240805T163803Z
UID:10007177-1725119100-1725122700@mar-anon.com
SUMMARY:Mar-Anon Annual Convention Hybrid meeting #2 ONLINE & In-person San Francisco\, CA 2024
DESCRIPTION:Saturday\, August 31 1:45 to 2:45 PST / 2:45 MST / 3:45 CST / 4:45 EST  \nMar-Anon Family Groups will hold our THIRD annual convention in conjunction with the Marijuana Anonymous Convention on August 30 – September 1st\, 2024 in San Francisco\, CA hosted by District 2 San Francisco and East Bay\, California.  The MA World Convention is the annual recovery and social gathering for all of Marijuana Anonymous.  It will be an excellent opportunity for growth in recovery and personal connections. \nWe are holding two Hybrid meetings on Saturday\, August 31 at 10:45 to 11:45 am PST (11:45 am MST/ 12:45 pm CST / 1:45 pm EST)  and 1:45 to 2:45 PST (2:45 MST / 3:45 CST / 4:45 EST).  \nMar-Anon is a fellowship of those affected by another person’s marijuana use and offers support & hope for another’s marijuana use.  We are coming together to work the steps and offer hope\, comfort\, and support for other members in person and on zoom.  We are not a religious group\, instead\, we use the steps as a path of self-discovery and personal change. The only requirement for membership is that a person be affected by another’s marijuana addiction.\nThis is an online Zoom meeting. \nJoin Zoom Meeting: https://us06web.zoom.us/j/88546350946?pwd=N78GgfI04URZXyLvmJnekqADFzvVeD.1\nMeeting ID: 885 4635 0946\nPasscode:757503 \nOne tap mobile\n+17193594580\,\,88546350946# US\n+13462487799\,\,82908513986# US (Houston) \nDial by your location:\n+1 719 359 4580 US\n+1 346 248 7799 US (Houston)\nMeeting ID: 885 4635 0946\nPasscode: 757503
URL:https://mar-anon.com/meetings/mar-anon-annual-convention-hybrid-meeting-2-online-in-person-san-francisco-ca-2024/
CATEGORIES:Cannabinoid Hyperemesis Syndrome,Cannabis-Induced Psyhosis,Dual Diagnosis,Mar-Anon Meeting
END:VEVENT
END:VCALENDAR